BEGIN:VCALENDAR
VERSION:2.0
PRODID:-//TexasLacrosse - ECPv6.15.11//NONSGML v1.0//EN
CALSCALE:GREGORIAN
METHOD:PUBLISH
X-ORIGINAL-URL:http://texaslacrosse.com
X-WR-CALDESC:Events for TexasLacrosse
REFRESH-INTERVAL;VALUE=DURATION:PT1H
X-Robots-Tag:noindex
X-PUBLISHED-TTL:PT1H
BEGIN:VTIMEZONE
TZID:America/Chicago
BEGIN:DAYLIGHT
TZOFFSETFROM:-0600
TZOFFSETTO:-0500
TZNAME:CDT
DTSTART:20190310T080000
END:DAYLIGHT
BEGIN:STANDARD
TZOFFSETFROM:-0500
TZOFFSETTO:-0600
TZNAME:CST
DTSTART:20191103T070000
END:STANDARD
BEGIN:DAYLIGHT
TZOFFSETFROM:-0600
TZOFFSETTO:-0500
TZNAME:CDT
DTSTART:20200308T080000
END:DAYLIGHT
BEGIN:STANDARD
TZOFFSETFROM:-0500
TZOFFSETTO:-0600
TZNAME:CST
DTSTART:20201101T070000
END:STANDARD
BEGIN:DAYLIGHT
TZOFFSETFROM:-0600
TZOFFSETTO:-0500
TZNAME:CDT
DTSTART:20210314T080000
END:DAYLIGHT
BEGIN:STANDARD
TZOFFSETFROM:-0500
TZOFFSETTO:-0600
TZNAME:CST
DTSTART:20211107T070000
END:STANDARD
BEGIN:DAYLIGHT
TZOFFSETFROM:-0600
TZOFFSETTO:-0500
TZNAME:CDT
DTSTART:20220313T080000
END:DAYLIGHT
BEGIN:STANDARD
TZOFFSETFROM:-0500
TZOFFSETTO:-0600
TZNAME:CST
DTSTART:20221106T070000
END:STANDARD
END:VTIMEZONE
BEGIN:VEVENT
DTSTART;VALUE=DATE:20210116
DTEND;VALUE=DATE:20210118
DTSTAMP:20260421T092024
CREATED:20201210T053405Z
LAST-MODIFIED:20201210T060033Z
UID:2473-1610755200-1610927999@texaslacrosse.com
SUMMARY:The Lax Event 2021
DESCRIPTION:The Lax Event is a series of lacrosse clinics and camps coordinated to connect aspiring high school and youth lacrosse players with training from NCAA\, MCLA and NAIA coaches.  Every high school player received a full sublimated Event reversible and Adrenaline socks.  The Winter 2021 Event will be held in Frisco\, TX on January 16-17th\, 2021 at Frisco Reedy High School.
URL:http://texaslacrosse.com/event/the-lax-event-2021
LOCATION:Frisco Reedy High School\, 3003 Stonebrook Pkwy\,\, Frisco\, TX\, 75036\, United States
CATEGORIES:All Events,Lacrosse Clinics
END:VEVENT
BEGIN:VEVENT
DTSTART;VALUE=DATE:20210101
DTEND;VALUE=DATE:20210105
DTSTAMP:20260421T092024
CREATED:20201210T053812Z
LAST-MODIFIED:20201210T060033Z
UID:2477-1609459200-1609804799@texaslacrosse.com
SUMMARY:2021 Goalie Clinic and Goalie Wars
DESCRIPTION:2021 Goalie Clinic hosted by Scotty Rodgers and Blaze Roirden at the Woodlands in Houston TX.\nPlease register all Goalies at https://forms.gle/6tnUTpeEMB5q8j9cA\nTo make registration easier\, we are collecting with Venmo: https://venmo.com/code?user_id=3160525605175296247 include the Goalie’s name in the comment section.\nWalkups are accepted but please register so we know you are coming.\nJan 1 : 6 to 8pmJan 2 : 12 to 2:30pmJan 3 : 12 to 4pm (including the 2021 Goalie Wars tournament)Jan 4 : All day 1 on 1 lessons\, by appointment\, slots are limited (not included in the fee)Goalies K – 12 boys and girls. Goalies can participate in some drills with just a stick (we will have a few extras) but cannot take live shots with out full goalie equipment.
URL:http://texaslacrosse.com/event/2021-goalie-clinic-and-goalie-wars
LOCATION:Alden Bridge Sports Park\, 4751 STATE ROUTE 242\, The Woodlands\, TX\, 77382
CATEGORIES:All Events,Lacrosse Clinics,Lacrosse Tournaments
END:VEVENT
BEGIN:VEVENT
DTSTART;TZID=America/Chicago:20201107T080000
DTEND;TZID=America/Chicago:20201107T170000
DTSTAMP:20260421T092024
CREATED:20201207T065950Z
LAST-MODIFIED:20201210T060033Z
UID:2371-1604736000-1604768400@texaslacrosse.com
SUMMARY:FREE Youth Boys Lacrosse Demo Day!
DESCRIPTION:FREE Youth Boys Lacrosse Demo Day!\nGrades 1st – 8th\nNo equipment necessary.\nWear cleats or sneakers and bring water.\nTell a friend!\nPlease Register on our website: www.woodlandsyouthlacrosse.org
URL:http://texaslacrosse.com/event/free-youth-boys-lacrosse-demo-day
LOCATION:Alden Bridge Sports Park\, 4751 STATE ROUTE 242\, The Woodlands\, TX\, 77382
CATEGORIES:All Events,Lacrosse Clinics
END:VEVENT
END:VCALENDAR