BEGIN:VCALENDAR
VERSION:2.0
PRODID:-//TexasLacrosse - ECPv6.15.11//NONSGML v1.0//EN
CALSCALE:GREGORIAN
METHOD:PUBLISH
X-WR-CALNAME:TexasLacrosse
X-ORIGINAL-URL:http://texaslacrosse.com
X-WR-CALDESC:Events for TexasLacrosse
REFRESH-INTERVAL;VALUE=DURATION:PT1H
X-Robots-Tag:noindex
X-PUBLISHED-TTL:PT1H
BEGIN:VTIMEZONE
TZID:America/Chicago
BEGIN:DAYLIGHT
TZOFFSETFROM:-0600
TZOFFSETTO:-0500
TZNAME:CDT
DTSTART:20190310T080000
END:DAYLIGHT
BEGIN:STANDARD
TZOFFSETFROM:-0500
TZOFFSETTO:-0600
TZNAME:CST
DTSTART:20191103T070000
END:STANDARD
BEGIN:DAYLIGHT
TZOFFSETFROM:-0600
TZOFFSETTO:-0500
TZNAME:CDT
DTSTART:20200308T080000
END:DAYLIGHT
BEGIN:STANDARD
TZOFFSETFROM:-0500
TZOFFSETTO:-0600
TZNAME:CST
DTSTART:20201101T070000
END:STANDARD
BEGIN:DAYLIGHT
TZOFFSETFROM:-0600
TZOFFSETTO:-0500
TZNAME:CDT
DTSTART:20210314T080000
END:DAYLIGHT
BEGIN:STANDARD
TZOFFSETFROM:-0500
TZOFFSETTO:-0600
TZNAME:CST
DTSTART:20211107T070000
END:STANDARD
BEGIN:DAYLIGHT
TZOFFSETFROM:-0600
TZOFFSETTO:-0500
TZNAME:CDT
DTSTART:20220313T080000
END:DAYLIGHT
BEGIN:STANDARD
TZOFFSETFROM:-0500
TZOFFSETTO:-0600
TZNAME:CST
DTSTART:20221106T070000
END:STANDARD
END:VTIMEZONE
BEGIN:VEVENT
DTSTART;VALUE=DATE:20210206
DTEND;VALUE=DATE:20210208
DTSTAMP:20260421T091803
CREATED:20201207T064123Z
LAST-MODIFIED:20201210T062357Z
UID:2353-1612569600-1612742399@texaslacrosse.com
SUMMARY:2021 CLA Winter Draw
DESCRIPTION:GIRLS HIGH SCHOOL TOURNAMENT\nHOSTED BY COPPELL LACROSSE\nCoppell Lacrosse Association would like to invite you to save the date for the CLA Winter Draw hosted February 6-7th in Coppell\, TX. The tournament is open to girls high school teams (grades 9-12) from all regions. The tournament will be played across three turf fields outfitted with stadium bleachers for spectators and concessions stands. All teams will be guaranteed three 50 minute games across Saturday and Sunday with the goal of achieving cross division and cross regional play. Due to our close proximity to DFW airport\, affordable lodging is available for traveling teams and CLA is available to help assist with arrangements and package deals with our local hospitality industry relationships. Registration dues for the tournament will be $400 for the first team registered and an additional $200 per additional team.\n \nIf you would like to receive the most up to date information as well as be notified when registration is open\, please fill out our interest form at https://coppell-lacrosse.com/cla-tournaments .\n 
URL:http://texaslacrosse.com/event/2021-cla-winter-draw
LOCATION:Coppell Texas\, Coppell\, TX
CATEGORIES:All Events,Lacrosse Tournaments
END:VEVENT
BEGIN:VEVENT
DTSTART;VALUE=DATE:20210130
DTEND;VALUE=DATE:20210201
DTSTAMP:20260421T091803
CREATED:20201216T070442Z
LAST-MODIFIED:20201216T070734Z
UID:2494-1611964800-1612137599@texaslacrosse.com
SUMMARY:Texas Premier Jan 2021 McKinney TX
DESCRIPTION:Season:Winter 2021\nStarts:Jan 30 ’21\nEnds:Jan 31 ’21\n\nLocation:Al Ruschhaupt Complex\n\nSponsor:GAAMER AND BSG\n\nTEXAS PREMIERE TOURNAMENT- Join us in the first tournament of the year in DFW. Get primed for your season and support the DFWL. A portion of the proceeds will go to the DFWL\, the youth lacrosse governing body in the DFW area.\n\nLOCATION:Al Ruschhaupt Park and Bonnie Wenk Park\n\n7 Divisions: Boys\,Girls & Adult\n\n1/2 GRADE (GRAD YEARS 32/31) 5v5\n3/4 GRADE (GRAD YEARS 30/29) 7v7\n5/6 GRADE (GRAD YEARS 28/27) 10v10\n7/8 GRADE (GRAD YEARS 26/25) 10v10\nJV 9-11TH GRADES (GRAD YEARS 24\,23\,22) 10v10\nVAR 9-12TH GRADES (GRAD YEARS 24\,23\,22\,21) 10v10\nADULT/OPEN DIVISION 10v10\n\nMore info and registration: https://gaamer.leagueapps.com/…/1959382-texas-premiere.
URL:http://texaslacrosse.com/event/texas-premier-jan-2021-mckinney-tx
LOCATION:Al Ruschhaupt Complex\, 1986 Park View Ave\, McKinney\, TX\, 75070
CATEGORIES:All Events,Lacrosse Tournaments
END:VEVENT
BEGIN:VEVENT
DTSTART;VALUE=DATE:20210101
DTEND;VALUE=DATE:20210105
DTSTAMP:20260421T091803
CREATED:20201210T053812Z
LAST-MODIFIED:20201210T060033Z
UID:2477-1609459200-1609804799@texaslacrosse.com
SUMMARY:2021 Goalie Clinic and Goalie Wars
DESCRIPTION:2021 Goalie Clinic hosted by Scotty Rodgers and Blaze Roirden at the Woodlands in Houston TX.\nPlease register all Goalies at https://forms.gle/6tnUTpeEMB5q8j9cA\nTo make registration easier\, we are collecting with Venmo: https://venmo.com/code?user_id=3160525605175296247 include the Goalie’s name in the comment section.\nWalkups are accepted but please register so we know you are coming.\nJan 1 : 6 to 8pmJan 2 : 12 to 2:30pmJan 3 : 12 to 4pm (including the 2021 Goalie Wars tournament)Jan 4 : All day 1 on 1 lessons\, by appointment\, slots are limited (not included in the fee)Goalies K – 12 boys and girls. Goalies can participate in some drills with just a stick (we will have a few extras) but cannot take live shots with out full goalie equipment.
URL:http://texaslacrosse.com/event/2021-goalie-clinic-and-goalie-wars
LOCATION:Alden Bridge Sports Park\, 4751 STATE ROUTE 242\, The Woodlands\, TX\, 77382
CATEGORIES:All Events,Lacrosse Clinics,Lacrosse Tournaments
END:VEVENT
BEGIN:VEVENT
DTSTART;VALUE=DATE:20201212
DTEND;VALUE=DATE:20201214
DTSTAMP:20260421T091803
CREATED:20201207T063650Z
LAST-MODIFIED:20201210T062337Z
UID:2347-1607731200-1607903999@texaslacrosse.com
SUMMARY:BEST OF TEXAS TOURNAMENT 2020
DESCRIPTION:DATES\, PRICING\nGirls HS/Youth & Boys Youth: December 12-13\, 2020 (Saturday & Sunday\, $999)\nBoys High School: December 13\, 2020 (Sunday only\, $899)\nBest of Texas Showcase is available for high school players on Saturday\, December 12.\n\nLOCATION\nCy-Fair Sports Complex\n22515 Schiel Rd\, Cypress\, TX 77433\n\nDIVISIONS\nBoys High School | Division I\, Division II\, JV\nBoys Youth | 2025/2026\, 2027/2028\, 2029/30\, 2031/32\nGirls High School | Varsity\, JV\nGirls Youth | 2025/26\, 2027/28\n\n\nMore info at https://victoryeventseries.com/best-of-texas/
URL:http://texaslacrosse.com/event/best-of-texas-tournament-2020
LOCATION:Cy-Fair Sports Complex\, 22515 Schiel Rd\, Cypress\, TX\, 77433
CATEGORIES:All Events,Lacrosse Tournaments
END:VEVENT
BEGIN:VEVENT
DTSTART;VALUE=DATE:20201212
DTEND;VALUE=DATE:20201214
DTSTAMP:20260421T091803
CREATED:20201207T055403Z
LAST-MODIFIED:20201210T062449Z
UID:2331-1607731200-1607903999@texaslacrosse.com
SUMMARY:5th Annual Big D Fiesta Claxic!
DESCRIPTION:5th Annual Big D Fiesta Claxic!\nGet the gang together once more before winter!\nWho doesn’t want more lacrosse? Join us for our 5th annual event and keep the party going!\nWe are delivering the greatest value for your lacrosse dollar. Thank you for your continued support as we grow the game in the South and throughout the country. And to make things even more affordable\, check out the multiple team/event specials on the DISCOUNTS tab on the left. This is a no-brainer!\n5 games minimum guaranteed plus Championship play Boys (10v10) and Girls (12v12) divisions Teams from 5 states (CO\, KS\, LA\, OK\, TX) Lower cost per game (why pay $1000 OR MORE elsewhere for LESS?) 40+ teams are expected; you should be one of them! Full-length games on full-sized fields\nRegister at https://laxusa.com/big-d-fiesta-claxic/\n 
URL:http://texaslacrosse.com/event/5th-annual-big-d-fiesta-claxic
LOCATION:Railroad Soccer Complex\, 1301 S Railroad St\, Lewisville\, TX\, 75057
CATEGORIES:All Events,Lacrosse Tournaments
END:VEVENT
BEGIN:VEVENT
DTSTART;TZID=America/Chicago:20201205T080000
DTEND;TZID=America/Chicago:20201206T170000
DTSTAMP:20260421T091803
CREATED:20201207T064848Z
LAST-MODIFIED:20201210T060033Z
UID:2361-1607155200-1607274000@texaslacrosse.com
SUMMARY:2020 LAX AT THE RANCH
DESCRIPTION:Returning to the awe inspiring Two Wishes Ranch south of Austin\nGAMES:\n21 minute running time halves; 2 minute halftime\n4 game minimum\, championship format\nno timeouts\nsubstitutions “on the fly” or during dead ball\n​\nOPERATION:\nfamily run\, family focused operation\nscoreboards & field marshals on every field\nlive scoring and schedule boards\ntimely communication\nGAME FILM\n\nDIVISIONS:\nBoys: HS AA\, HS A\, 2024\, 2025\, 2026\, 2027\, 2028\, 2029-30\nGirls: HS AA\, HS A\, 2025-26\, 2027-28\nWhen possible\, divisions will be split into A and B flights\nDivisions and brackets may be adjusted based on participating teams to ensure the best competition for all registered teams\nSCHEDULE:\nThe game schedule will be posted the Monday preceding the event\nVENUE:\nbathrooms on site\nfood on site\nample parking on site\n\nMore info at https://www.bitterlacrosse.com/ranchlax
URL:http://texaslacrosse.com/event/2020-lax-at-the-ranch
LOCATION:Two Wishes Ranch Events\, 3495 Rolling Ridge Road\, Lockhart\, TX\, 78644\, United States
CATEGORIES:All Events,Lacrosse Tournaments
END:VEVENT
BEGIN:VEVENT
DTSTART;TZID=America/Chicago:20201114T080000
DTEND;TZID=America/Chicago:20201115T170000
DTSTAMP:20260421T091803
CREATED:20201207T065431Z
LAST-MODIFIED:20201210T060033Z
UID:2367-1605340800-1605459600@texaslacrosse.com
SUMMARY:2020 LONE STAR SHOOT-OUT
DESCRIPTION:November 14-15\, 2020\nRailroad Park\, Lewisville\, TX\nBOY LACROSSE TOURNAMENT\nThe Lone Star Shootout has been one of the premier select lacrosse tournaments in the Southwest. The 13th annual Lone Star shootout is expected to be the biggest yet with teams from across the US.\nAGE GROUPS / DIVISIONS\nNEW for 2020 – 8 teams per division (Currently Registered Teams)\nHigh School A\nHigh School B\nJV\n2025 (8th grade) A\n2025 (8th grade) B\n2026 (7th grade) A – 2 SPOTS LEFT\n2026 (7th grade) B\n2027 (6th grade) – 1 SPOT LEFT\n2028 (5th grade)\n2029/30 (3rd/4th grade)\nNote: Any Returning teams that were in the Semi-finals the previous year are required to play in the A division for HS\, 2025\, and 2026!\nFull Payment Due: October 31st\nEntry Deadline: October 31st\nGAMES\n4 – 6 games for all teams\n3 Pool Games Saturday for Seeding (44-minute games)\nSingle Elimination Bracket Play Begins on Sunday (50-minute games)\nLOCATION:\nToyota Railroad Park Lewisville\, TX\n1301 S Railroad St\, Lewisville\, TX 75057
URL:http://texaslacrosse.com/event/2020-lone-star-shoot-out
LOCATION:Railroad Soccer Complex\, 1301 S Railroad St\, Lewisville\, TX\, 75057
CATEGORIES:All Events,Lacrosse Tournaments
END:VEVENT
END:VCALENDAR